BEGIN:VCALENDAR
VERSION:2.0
CALSCALE:GREGORIAN
PRODID:-//Diputació de Barcelona//DibaCMS//EN
BEGIN:VEVENT
UID:10474
DTSTAMP:20260422T101854
DTSTART:20171124T000000
DTEND:20171124T000000
SUMMARY:DIA INTERNACIONAL PER L'ELIMINACIÓ DE LA VIOLÈNCIA CONTRA LES DONES - ACTE CENTRAL - duplicat
LOCATION:
METHOD:PUBLISH
X-WR-CALNAME:info.pont@elpont.cat
X-WR-TIMEZONE:Europe/Madrid
DESCRIPTION:
Minut de silenci i lectura del manifest contra la violència.
Participa en la Flashmob: vine a ballar contra la violència !
Actuació musical de la Coral Clau de So del Pont de Vilomara i Rocafort.

URI:https://www.elpont.cat/actualitat/agenda/dia-internacional-per-leliminacio-de-la-violencia-contra-les-dones-acte-central-duplicat.html
CLASS:PUBLIC
END:VEVENT
END:VCALENDAR
