BEGIN:VCALENDAR
VERSION:2.0
CALSCALE:GREGORIAN
PRODID:-//Diputació de Barcelona//DibaCMS//EN
BEGIN:VEVENT
UID:10648
DTSTAMP:20260421T174017
DTSTART:20240721T100000
DTEND:20240721T100000
SUMMARY:Festa Major 2024 - Matinal cultural - Segona trobada d'Urban Sketchers
LOCATION:Plaça Major 08254 El Pont de Vilomara i Rocafort
METHOD:PUBLISH
X-WR-CALNAME:info.pont@elpont.cat
X-WR-TIMEZONE:Europe/Madrid
DESCRIPTION:Urban Sketchers és una comunitat global de dibuixants, tant professionals com aficionats, que fomenta la pràctica del dibuix in situ, i l'observació directa de la vida urbana. Amb el lema "Veure el món, dibuix a dibuix", aquests dibuixants urbans comparteixen els seus treballs a Internet mitjançant blocs i xarxes socials. (Viquipèdia)

URI:https://www.elpont.cat/actualitat/agenda/festa-major-2024-matinal-cultural-segona-trobada-durban-sketchers.html
CLASS:PUBLIC
END:VEVENT
END:VCALENDAR
