BEGIN:VCALENDAR
VERSION:2.0
CALSCALE:GREGORIAN
PRODID:-//Diputació de Barcelona//DibaCMS//EN
BEGIN:VEVENT
UID:10770
DTSTAMP:20260421T143042
DTSTART:20241122T150000
DTEND:20241122T150000
SUMMARY:Activitats Biblioteca novembre 2024 - Tertúlia literària "París érem nosaltres"
LOCATION:Sant Pere Regalat, 72, baixos 08254 El Pont de Vilomara i Rocafort
METHOD:PUBLISH
X-WR-CALNAME:info.pont@elpont.cat
X-WR-TIMEZONE:Europe/Madrid
DESCRIPTION:Amb la presència de l'escriptor Andreu Claret.

URI:https://www.elpont.cat/actualitat/agenda/activitats-biblioteca-novembre-2024-tertulia-literaria-paris-erem-nosaltres.html
CLASS:PUBLIC
END:VEVENT
END:VCALENDAR
