BEGIN:VCALENDAR
VERSION:2.0
CALSCALE:GREGORIAN
PRODID:-//Diputació de Barcelona//DibaCMS//EN
BEGIN:VEVENT
UID:10804
DTSTAMP:20260421T161448
DTSTART:20241205T190000
DTEND:20241205T190000
SUMMARY:Festes nadalenques 2024 - Encesa de llums de Nadal
LOCATION:Plaça de l'Ajuntament 
METHOD:PUBLISH
X-WR-CALNAME:info.pont@elpont.cat
X-WR-TIMEZONE:Europe/Madrid
DESCRIPTION:Espectacle sorpresa a càrrec de Jordi Callau.

URI:https://www.elpont.cat/actualitat/agenda/festes-nadalenques-2024-encesa-de-llums-de-nadal.html
CLASS:PUBLIC
END:VEVENT
END:VCALENDAR
