BEGIN:VCALENDAR
VERSION:2.0
CALSCALE:GREGORIAN
PRODID:-//Diputació de Barcelona//DibaCMS//EN
BEGIN:VEVENT
UID:10915
DTSTAMP:20260422T002020
DTSTART:20251015T170000
DTEND:20251015T190000
SUMMARY:Xerrada "Eines per ajudar els fills i filles a créixer"
LOCATION:Mestre Saura, 5-B El Pont de Vilomara i Rocafort
METHOD:PUBLISH
X-WR-CALNAME:info.pont@elpont.cat
X-WR-TIMEZONE:Europe/Madrid
DESCRIPTION:El propòsit és oferir un espai segur, respectuós i estimulant de reflexió individual i col·lectiva sobre el rol i vincle parental i al respecte de ser mare i pare. Un espai que inspiri el creixement dels pares i mares participants i que ofereixi coneixement científic del desenvolupament de l’infant i de les condicions relacionals òptimes per a un segur creixement i desplegament humà.

URI:https://www.elpont.cat/actualitat/agenda/xerrada-eines-per-ajudar-els-fills-i-filles-a-creixer.html
CLASS:PUBLIC
END:VEVENT
END:VCALENDAR
