BEGIN:VCALENDAR
VERSION:2.0
CALSCALE:GREGORIAN
PRODID:-//Diputació de Barcelona//DibaCMS//EN
BEGIN:VEVENT
UID:10975
DTSTAMP:20260421T190941
DTSTART:20250712T100000
DTEND:20250712T130000
SUMMARY:Festa Major 2025 - Matinal de construccions Kappla
LOCATION:Sant Pere Regalat, 72, baixos 08254 El Pont de Vilomara i Rocafort
METHOD:PUBLISH
X-WR-CALNAME:info.pont@elpont.cat
X-WR-TIMEZONE:Europe/Madrid
DESCRIPTION:
 

URI:https://www.elpont.cat/actualitat/agenda/festa-major-2025-matinal-de-construccions-kappla.html
CLASS:PUBLIC
END:VEVENT
END:VCALENDAR
