BEGIN:VCALENDAR
VERSION:2.0
CALSCALE:GREGORIAN
PRODID:-//Diputació de Barcelona//DibaCMS//EN
BEGIN:VEVENT
UID:10991
DTSTAMP:20260421T144651
DTSTART:20250719T030000
DTEND:20250719T030000
SUMMARY:Festa Major 2025 - Dj Jaume Delis
LOCATION:Passeig de la Pau 
METHOD:PUBLISH
X-WR-CALNAME:info.pont@elpont.cat
X-WR-TIMEZONE:Europe/Madrid
DESCRIPTION:Després del concert.

URI:https://www.elpont.cat/actualitat/agenda/festa-major-2025-dj-jaume-delis.html
CLASS:PUBLIC
END:VEVENT
END:VCALENDAR
