BEGIN:VCALENDAR
VERSION:2.0
CALSCALE:GREGORIAN
PRODID:-//Diputació de Barcelona//DibaCMS//EN
BEGIN:VEVENT
UID:11979
DTSTAMP:20260421T210337
DTSTART:20250927T163000
DTEND:20250927T163000
SUMMARY:Xerrada "Bases per a una bona alimentació en la pràctica de l'esport"
LOCATION:Sant Jeroni, 12-14  08254 El Pont de Vilomara i Rocafort
METHOD:PUBLISH
X-WR-CALNAME:info.pont@elpont.cat
X-WR-TIMEZONE:Europe/Madrid
DESCRIPTION: A càrrec d'Anna Grífols.

URI:https://www.elpont.cat/actualitat/agenda/xerrada-bases-per-a-una-bona-alimentacio-en-la-practica-de-lesport.html
CLASS:PUBLIC
END:VEVENT
END:VCALENDAR
