BEGIN:VCALENDAR
VERSION:2.0
CALSCALE:GREGORIAN
PRODID:-//Diputació de Barcelona//DibaCMS//EN
BEGIN:VEVENT
UID:11981
DTSTAMP:20260421T174118
DTSTART:20250922T170000
DTEND:20250922T170000
SUMMARY:43è. Homenatge a la Gent Gran 2025 - Taller de manualitats
LOCATION:Plaça Margarida, s/n. 08254 El Pont de Vilomara i Rocafort
METHOD:PUBLISH
X-WR-CALNAME:info.pont@elpont.cat
X-WR-TIMEZONE:Europe/Madrid
DESCRIPTION:Adreçat a persones majors de 65 anys.

URI:https://www.elpont.cat/actualitat/agenda/43e-homenatge-a-la-gent-gran-2025-taller-de-manualitats.html
CLASS:PUBLIC
END:VEVENT
END:VCALENDAR
