BEGIN:VCALENDAR
VERSION:2.0
CALSCALE:GREGORIAN
PRODID:-//Diputació de Barcelona//DibaCMS//EN
BEGIN:VEVENT
UID:11991
DTSTAMP:20260421T161549
DTSTART:20250923T180000
DTEND:20250923T180000
SUMMARY:43è. Homenatge a la Gent Gran 2025 - Berenar saludable
LOCATION:Plaça Margarida, s/n. 08254 El Pont de Vilomara i Rocafort
METHOD:PUBLISH
X-WR-CALNAME:info.pont@elpont.cat
X-WR-TIMEZONE:Europe/Madrid
DESCRIPTION:
URI:https://www.elpont.cat/actualitat/agenda/43e-homenatge-a-la-gent-gran-2025-berenar-saludable.html
CLASS:PUBLIC
END:VEVENT
END:VCALENDAR
