BEGIN:VCALENDAR
VERSION:2.0
CALSCALE:GREGORIAN
PRODID:-//Diputació de Barcelona//DibaCMS//EN
BEGIN:VEVENT
UID:11992
DTSTAMP:20260421T143223
DTSTART:20250924T173000
DTEND:20250924T173000
SUMMARY:43è. Homenatge a la Gent Gran 2025 - Bingo especial Gent Gran
LOCATION:Plaça Margarida, s/n. 08254 El Pont de Vilomara i Rocafort
METHOD:PUBLISH
X-WR-CALNAME:info.pont@elpont.cat
X-WR-TIMEZONE:Europe/Madrid
DESCRIPTION:Amb premis per als guanyadors i guanyadores.

URI:https://www.elpont.cat/actualitat/agenda/43e-homenatge-a-la-gent-gran-2025-bingo-especial-gent-gran.html
CLASS:PUBLIC
END:VEVENT
END:VCALENDAR
