BEGIN:VCALENDAR
VERSION:2.0
CALSCALE:GREGORIAN
PRODID:-//Diputació de Barcelona//DibaCMS//EN
BEGIN:VEVENT
UID:11993
DTSTAMP:20260421T230330
DTSTART:20250925T170000
DTEND:20250925T170000
SUMMARY:43è. Homenatge a la Gent Gran 2025 - Projecció de fotografies antigues del poble
LOCATION:Plaça Margarida, s/n. 08254 El Pont de Vilomara i Rocafort
METHOD:PUBLISH
X-WR-CALNAME:info.pont@elpont.cat
X-WR-TIMEZONE:Europe/Madrid
DESCRIPTION:Reviu la història del nostre poble a través d'imatges.

URI:https://www.elpont.cat/actualitat/agenda/43e-homenatge-a-la-gent-gran-2025-projeccio-de-fotografies-antigues-del-poble.html
CLASS:PUBLIC
END:VEVENT
END:VCALENDAR
