BEGIN:VCALENDAR
VERSION:2.0
CALSCALE:GREGORIAN
PRODID:-//Diputació de Barcelona//DibaCMS//EN
BEGIN:VEVENT
UID:11995
DTSTAMP:20260421T215751
DTSTART:20250927T173000
DTEND:20250927T173000
SUMMARY:43è. Homenatge a la Gent Gran 2025 - Vine a ballar amb el Duo Caramelo
LOCATION:Sant Pere Regalat, 18-28 08254 El Pont de Vilomara i Rocafort
METHOD:PUBLISH
X-WR-CALNAME:info.pont@elpont.cat
X-WR-TIMEZONE:Europe/Madrid
DESCRIPTION:
URI:https://www.elpont.cat/actualitat/agenda/43e-homenatge-a-la-gent-gran-2025-vine-a-ballar-amb-el-duo-caramelo.html
CLASS:PUBLIC
END:VEVENT
END:VCALENDAR
