BEGIN:VCALENDAR
VERSION:2.0
CALSCALE:GREGORIAN
PRODID:-//Diputació de Barcelona//DibaCMS//EN
BEGIN:VEVENT
UID:11996
DTSTAMP:20260421T143401
DTSTART:20250928T100000
DTEND:20250928T100000
SUMMARY:43è. Homenatge a la Gent Gran 2025 - Missa solemne cantada en Acció de Gràcies
LOCATION:Plaça Major, s/n 08254 El Pont de Vilomara i Rocafort
METHOD:PUBLISH
X-WR-CALNAME:info.pont@elpont.cat
X-WR-TIMEZONE:Europe/Madrid
DESCRIPTION:Amb els Trobadors del Bages.

URI:https://www.elpont.cat/actualitat/agenda/43e-homenatge-a-la-gent-gran-2025-missa-solemne-cantada-en-accio-de-gracies.html
CLASS:PUBLIC
END:VEVENT
END:VCALENDAR
