BEGIN:VCALENDAR
VERSION:2.0
CALSCALE:GREGORIAN
PRODID:-//Diputació de Barcelona//DibaCMS//EN
BEGIN:VEVENT
UID:11997
DTSTAMP:20260419T151324
DTSTART:20250928T110000
DTEND:20250928T110000
SUMMARY:43è. Homenatge a la Gent Gran 2025 - Concert a càrrec dels Trobadors del Bages
LOCATION:Plaça Major 08254 El Pont de Vilomara i Rocafort
METHOD:PUBLISH
X-WR-CALNAME:info.pont@elpont.cat
X-WR-TIMEZONE:Europe/Madrid
DESCRIPTION:A continuació de la Missa.

URI:https://www.elpont.cat/actualitat/agenda/43e-homenatge-a-la-gent-gran-2025-concert-a-carrec-dels-trobadors-del-bages.html
CLASS:PUBLIC
END:VEVENT
END:VCALENDAR
