BEGIN:VCALENDAR
VERSION:2.0
CALSCALE:GREGORIAN
PRODID:-//Diputació de Barcelona//DibaCMS//EN
BEGIN:VEVENT
UID:11998
DTSTAMP:20260421T120944
DTSTART:20250928T163000
DTEND:20250928T163000
SUMMARY:43è. Homenatge a la Gent Gran 2025 - Cercavila dels Gegants i Grallers del Grup d'Infància i Joventut
LOCATION:Sortida des del Carrer Vallhonesta 
METHOD:PUBLISH
X-WR-CALNAME:info.pont@elpont.cat
X-WR-TIMEZONE:Europe/Madrid
DESCRIPTION:Arribada al Centre Cívic "Evaristo de la Torre".

URI:https://www.elpont.cat/actualitat/agenda/43e-homenatge-a-la-gent-gran-2025-cercavila-dels-gegants-i-grallers-del-grup-dinfancia-i-joventut.html
CLASS:PUBLIC
END:VEVENT
END:VCALENDAR
