BEGIN:VCALENDAR
VERSION:2.0
CALSCALE:GREGORIAN
PRODID:-//Diputació de Barcelona//DibaCMS//EN
BEGIN:VEVENT
UID:11999
DTSTAMP:20260421T221522
DTSTART:20250928T170000
DTEND:20250928T170000
SUMMARY:43è. Homenatge a la Gent Gran 2025 - Espectacle "La Pandilla de l'Edat d'Or"
LOCATION:Sant Pere Regalat, 18-28 08254 El Pont de Vilomara i Rocafort
METHOD:PUBLISH
X-WR-CALNAME:info.pont@elpont.cat
X-WR-TIMEZONE:Europe/Madrid
DESCRIPTION:
	Elecció de la Pubilla i l'Hereu Jubilats 2025.
	Entrega d'un obsequi a tots els homenatjats de més de 75 anys.
	Entrega de diplomes a les persones majors de 85 anys durant el 2025.
	Entrega d'un regal a les persones de més edat:
	
		Júlia Ribera Laplana.
		Ramona Playà Casals.
	
	


URI:https://www.elpont.cat/actualitat/agenda/43e-homenatge-a-la-gent-gran-2025-espectacle-la-pandilla-de-ledat-dor.html
CLASS:PUBLIC
END:VEVENT
END:VCALENDAR
