BEGIN:VCALENDAR
VERSION:2.0
CALSCALE:GREGORIAN
PRODID:-//Diputació de Barcelona//DibaCMS//EN
BEGIN:VEVENT
UID:12000
DTSTAMP:20260422T003056
DTSTART:20251001T150000
DTEND:20251001T150000
SUMMARY:43è. Homenatge a la Gent Gran 2025 - Xerrada "La societat davant la vellesa"
LOCATION:Sant Pere Regalat, 72, baixos 08254 El Pont de Vilomara i Rocafort
METHOD:PUBLISH
X-WR-CALNAME:info.pont@elpont.cat
X-WR-TIMEZONE:Europe/Madrid
DESCRIPTION:La professora i activista social Carme Carrió ens parlarà de la situació actual del col·lectiu de la gent gran i de com és d'important la seva integració en la societat i com aprofitar el seu important bagatge de coneixement i experiència.

URI:https://www.elpont.cat/actualitat/agenda/43e-homenatge-a-la-gent-gran-2025-xerrada-la-societat-davant-la-vellesa.html
CLASS:PUBLIC
END:VEVENT
END:VCALENDAR
