BEGIN:VCALENDAR
VERSION:2.0
CALSCALE:GREGORIAN
PRODID:-//Diputació de Barcelona//DibaCMS//EN
BEGIN:VEVENT
UID:12001
DTSTAMP:20260421T161702
DTSTART:20250908T103000
DTEND:20250908T130000
SUMMARY:Oficina mòbil d'informació al consumidor - setembre 2025
LOCATION:Mercat Municipal (C/ Jesús, davant l'escola) 
METHOD:PUBLISH
X-WR-CALNAME:info.pont@elpont.cat
X-WR-TIMEZONE:Europe/Madrid
DESCRIPTION:L'Ajuntament i la Diputació de Barcelona organitzen de forma conjunta la visita d'aquesta unitat mòbil que us ajudarà en temes de consum:

URI:https://www.elpont.cat/actualitat/agenda/oficina-mobil-dinformacio-al-consumidor-setembre-2025.html
CLASS:PUBLIC
END:VEVENT
END:VCALENDAR
