BEGIN:VCALENDAR
VERSION:2.0
CALSCALE:GREGORIAN
PRODID:-//Diputació de Barcelona//DibaCMS//EN
BEGIN:VEVENT
UID:12002
DTSTAMP:20260421T230223
DTSTART:20250920T183000
DTEND:20250920T183000
SUMMARY:XX Cap de setmana de la joventut 2025 - Corretasques amb "Batukada Pikbé"
LOCATION:Plaça de l'Ajuntament 
METHOD:PUBLISH
X-WR-CALNAME:info.pont@elpont.cat
X-WR-TIMEZONE:Europe/Madrid
DESCRIPTION:L'estil Pikbé és inconfusible!

URI:https://www.elpont.cat/actualitat/agenda/xx-cap-de-setmana-de-la-joventut-2025-corretasques-amb-batukada-pikbe.html
CLASS:PUBLIC
END:VEVENT
END:VCALENDAR
