BEGIN:VCALENDAR
VERSION:2.0
CALSCALE:GREGORIAN
PRODID:-//Diputació de Barcelona//DibaCMS//EN
BEGIN:VEVENT
UID:12003
DTSTAMP:20260421T104838
DTSTART:20250919T213000
DTEND:20250919T213000
SUMMARY:XX Cap de setmana de la joventut 2025 - Humor amarillo
LOCATION:Plaça de l'Ajuntament 
METHOD:PUBLISH
X-WR-CALNAME:info.pont@elpont.cat
X-WR-TIMEZONE:Europe/Madrid
DESCRIPTION:Inscripció per grups a l’Ajuntament fins al 17 de setembre (mínim 5 persones, màxim 8).

Els menors de 16 anys hauran d’anar acompanyats d’un adult i amb una autorització del pare/mare i/o tutor/tutora.

URI:https://www.elpont.cat/actualitat/agenda/xx-cap-de-setmana-de-la-joventut-2025-humor-amarillo.html
CLASS:PUBLIC
END:VEVENT
END:VCALENDAR
