BEGIN:VCALENDAR
VERSION:2.0
CALSCALE:GREGORIAN
PRODID:-//Diputació de Barcelona//DibaCMS//EN
BEGIN:VEVENT
UID:12005
DTSTAMP:20260421T161533
DTSTART:20250921T010000
DTEND:20250921T010000
SUMMARY:XX Cap de setmana de la joventut 2025 - Dj Sansi
LOCATION:Sant Pere Regalat, 18-28 08254 El Pont de Vilomara i Rocafort
METHOD:PUBLISH
X-WR-CALNAME:info.pont@elpont.cat
X-WR-TIMEZONE:Europe/Madrid
DESCRIPTION:A continuació del Concert.

URI:https://www.elpont.cat/actualitat/agenda/xx-cap-de-setmana-de-la-joventut-2025-dj-sansi.html
CLASS:PUBLIC
END:VEVENT
END:VCALENDAR
