BEGIN:VCALENDAR
VERSION:2.0
CALSCALE:GREGORIAN
PRODID:-//Diputació de Barcelona//DibaCMS//EN
BEGIN:VEVENT
UID:12006
DTSTAMP:20260419T163936
DTSTART:20250921T160000
DTEND:20250921T160000
SUMMARY:XX Cap de setmana de la joventut 2025 - Segon aniversari del Punt Jove amb "Simulador de Realitat Virtual"
LOCATION:Plaça Cooperativa, s/n 08254 El Pont de Vilomara i Rocafort
METHOD:PUBLISH
X-WR-CALNAME:info.pont@elpont.cat
X-WR-TIMEZONE:Europe/Madrid
DESCRIPTION:Experiència de terror per a joves amb dispositius de realitat virtual d’alta gama, a càrrec de AFK Virtual Events.

URI:https://www.elpont.cat/actualitat/agenda/xx-cap-de-setmana-de-la-joventut-2025-segon-aniversari-del-punt-jove-amb-simulador-de-realitat-virtual.html
CLASS:PUBLIC
END:VEVENT
END:VCALENDAR
