BEGIN:VCALENDAR
VERSION:2.0
CALSCALE:GREGORIAN
PRODID:-//Diputació de Barcelona//DibaCMS//EN
BEGIN:VEVENT
UID:12013
DTSTAMP:20260422T081942
DTSTART:20251019T090000
DTEND:20251019T090000
SUMMARY:Caminada popular contra el càncer de mama
LOCATION:Sortida des de la Plaça de l'Ajuntament 
METHOD:PUBLISH
X-WR-CALNAME:info.pont@elpont.cat
X-WR-TIMEZONE:Europe/Madrid
DESCRIPTION:L'Ajuntament i la Junta Local de Dones contra el Càncer, en col·laboració amb el Ceviro, organitzen una caminada per recaptar fons per la lluita contra el càncer de mama.

La recaptació serà donada a Oncologia d'Althaia.

URI:https://www.elpont.cat/actualitat/agenda/caminada-popular-contra-el-cancer-de-mama.html
CLASS:PUBLIC
END:VEVENT
END:VCALENDAR
