BEGIN:VCALENDAR
VERSION:2.0
CALSCALE:GREGORIAN
PRODID:-//Diputació de Barcelona//DibaCMS//EN
BEGIN:VEVENT
UID:12015
DTSTAMP:20260421T191009
DTSTART:20251119T093000
DTEND:20251119T123000
SUMMARY:Jornada de renovació del DNI - novembre 2025
LOCATION:Plaça de l'Ajuntament, 1 08254 El Pont de Vilomara i Rocafort
METHOD:PUBLISH
X-WR-CALNAME:info.pont@elpont.cat
X-WR-TIMEZONE:Europe/Madrid
DESCRIPTION:Des de l’Ajuntament es torna a organitzar una nova jornada de renovacions del DNI al municipi.

URI:https://www.elpont.cat/actualitat/agenda/jornada-de-renovacio-del-dni-novembre-2025.html
CLASS:PUBLIC
END:VEVENT
END:VCALENDAR
