BEGIN:VCALENDAR
VERSION:2.0
CALSCALE:GREGORIAN
PRODID:-//Diputació de Barcelona//DibaCMS//EN
BEGIN:VEVENT
UID:12024
DTSTAMP:20260422T005959
DTSTART:20251017T235900
DTEND:20251017T235900
SUMMARY:Darrer dia per sol·licitar subvencions per a entitats locals 2025
LOCATION:Plaça de l'Ajuntament, 1 08254 El Pont de Vilomara i Rocafort
METHOD:PUBLISH
X-WR-CALNAME:info.pont@elpont.cat
X-WR-TIMEZONE:Europe/Madrid
DESCRIPTION:Darrer dia per presentar sol·licituds de subvenció per a entitats locals 2023.

URI:https://www.elpont.cat/actualitat/agenda/darrer-dia-per-sollicitar-subvencions-per-a-entitats-locals-2025.html
CLASS:PUBLIC
END:VEVENT
END:VCALENDAR
