BEGIN:VCALENDAR
VERSION:2.0
CALSCALE:GREGORIAN
PRODID:-//Diputació de Barcelona//DibaCMS//EN
BEGIN:VEVENT
UID:12026
DTSTAMP:20260421T163522
DTSTART:20251004T100000
DTEND:20251004T100000
SUMMARY:Activitats Biblioteca octubre 2025 - Taller "Fotografia i natura"
LOCATION:Sant Pere Regalat, 72, baixos 08254 El Pont de Vilomara i Rocafort
METHOD:PUBLISH
X-WR-CALNAME:info.pont@elpont.cat
X-WR-TIMEZONE:Europe/Madrid
DESCRIPTION:Taller on aprendrem els conceptes bàsics de fotografia amb el mòbil i a desenvolupar una mirada més atenta i creativa cap a la natura i l’entorn quotidià. 

A càrrec de Noa Morales de Nur Estudio.

URI:https://www.elpont.cat/actualitat/agenda/activitats-biblioteca-octubre-2025-taller-fotografia-i-natura.html
CLASS:PUBLIC
END:VEVENT
END:VCALENDAR
