BEGIN:VCALENDAR
VERSION:2.0
CALSCALE:GREGORIAN
PRODID:-//Diputació de Barcelona//DibaCMS//EN
BEGIN:VEVENT
UID:12027
DTSTAMP:20260421T191247
DTSTART:20251008T150000
DTEND:20251008T150000
SUMMARY:Activitats Biblioteca octubre 2025 - Xerrada-taller "Acrobàcies emocionals"
LOCATION:Sant Pere Regalat, 72, baixos 08254 El Pont de Vilomara i Rocafort
METHOD:PUBLISH
X-WR-CALNAME:info.pont@elpont.cat
X-WR-TIMEZONE:Europe/Madrid
DESCRIPTION:Dolors Utrera, psicòloga i professora, ens planteja un viatge a l'autoconeixement, una aventura emocionant i plena de descobriments.

URI:https://www.elpont.cat/actualitat/agenda/activitats-biblioteca-octubre-2025-xerrada-taller-acrobacies-emocionals.html
CLASS:PUBLIC
END:VEVENT
END:VCALENDAR
