BEGIN:VCALENDAR
VERSION:2.0
CALSCALE:GREGORIAN
PRODID:-//Diputació de Barcelona//DibaCMS//EN
BEGIN:VEVENT
UID:12028
DTSTAMP:20260421T230732
DTSTART:20251009T180000
DTEND:20251031T200000
SUMMARY:Activitats Biblioteca octubre 2025 - Exposició "Traços d'una dècada"
LOCATION:Sant Pere Regalat, 72, baixos 08254 El Pont de Vilomara i Rocafort
METHOD:PUBLISH
X-WR-CALNAME:info.pont@elpont.cat
X-WR-TIMEZONE:Europe/Madrid
DESCRIPTION:Pintures de l'artista vilomarenca Teresa Martínez Domene.

URI:https://www.elpont.cat/actualitat/agenda/activitats-biblioteca-octubre-2025-exposicio-tracos-duna-decada.html
CLASS:PUBLIC
END:VEVENT
END:VCALENDAR
