BEGIN:VCALENDAR
VERSION:2.0
CALSCALE:GREGORIAN
PRODID:-//Diputació de Barcelona//DibaCMS//EN
BEGIN:VEVENT
UID:12029
DTSTAMP:20260421T180039
DTSTART:20251015T170000
DTEND:20251015T170000
SUMMARY:Activitats Biblioteca octubre 2025 - Debat al Punt "Durante de la tormenta: un libro sobre acompañar(nos)"
LOCATION:Plaça Cooperativa, s/n 08254 El Pont de Vilomara i Rocafort
METHOD:PUBLISH
X-WR-CALNAME:info.pont@elpont.cat
X-WR-TIMEZONE:Europe/Madrid
DESCRIPTION:Nova trobada del grup de joves per parlar del còmic de @occimorons.

URI:https://www.elpont.cat/actualitat/agenda/activitats-biblioteca-octubre-2025-debat-al-punt-durante-de-la-tormenta-un-libro-sobre-acompanarnos.html
CLASS:PUBLIC
END:VEVENT
END:VCALENDAR
