BEGIN:VCALENDAR
VERSION:2.0
CALSCALE:GREGORIAN
PRODID:-//Diputació de Barcelona//DibaCMS//EN
BEGIN:VEVENT
UID:12030
DTSTAMP:20260421T161948
DTSTART:20251025T110000
DTEND:20251025T110000
SUMMARY:Activitats Biblioteca octubre 2025 - BiblioLab "Ninots"
LOCATION:Sant Pere Regalat, 72, baixos 08254 El Pont de Vilomara i Rocafort
METHOD:PUBLISH
X-WR-CALNAME:info.pont@elpont.cat
X-WR-TIMEZONE:Europe/Madrid
DESCRIPTION:Taller de manualitats per a aprendre a crear personatges monstruosos a partir de material reciclat.

URI:https://www.elpont.cat/actualitat/agenda/activitats-biblioteca-octubre-2025-bibliolab-ninots.html
CLASS:PUBLIC
END:VEVENT
END:VCALENDAR
