BEGIN:VCALENDAR
VERSION:2.0
CALSCALE:GREGORIAN
PRODID:-//Diputació de Barcelona//DibaCMS//EN
BEGIN:VEVENT
UID:12032
DTSTAMP:20260422T002902
DTSTART:20251010T193000
DTEND:20251010T193000
SUMMARY:Sopar de Verema
LOCATION:Sant Pere Regalat, 72, baixos 08254 El Pont de Vilomara i Rocafort
METHOD:PUBLISH
X-WR-CALNAME:info.pont@elpont.cat
X-WR-TIMEZONE:Europe/Madrid
DESCRIPTION:Pa amb tomàquet amb productes de proximitat de la Catalunya Central.

URI:https://www.elpont.cat/actualitat/agenda/sopar-de-verema.html
CLASS:PUBLIC
END:VEVENT
END:VCALENDAR
