BEGIN:VCALENDAR
VERSION:2.0
CALSCALE:GREGORIAN
PRODID:-//Diputació de Barcelona//DibaCMS//EN
BEGIN:VEVENT
UID:12033
DTSTAMP:20260422T041257
DTSTART:20251004T100000
DTEND:20251004T140000
SUMMARY:Campanya de donació de sang
LOCATION:Sant Pere Regalat, 18-28 08254 El Pont de Vilomara i Rocafort
METHOD:PUBLISH
X-WR-CALNAME:info.pont@elpont.cat
X-WR-TIMEZONE:Europe/Madrid
DESCRIPTION:Toca donar sang, toca rebre vida.

URI:https://www.elpont.cat/actualitat/agenda/12033-campanya-de-donacio-de-sang.html
CLASS:PUBLIC
END:VEVENT
END:VCALENDAR
