BEGIN:VCALENDAR
VERSION:2.0
CALSCALE:GREGORIAN
PRODID:-//Diputació de Barcelona//DibaCMS//EN
BEGIN:VEVENT
UID:12044
DTSTAMP:20260421T180116
DTSTART:20251107T150000
DTEND:20251107T150000
SUMMARY:Activitats Biblioteca novembre 2025 - Taller de cuina "Melmelades amb fruits silvestres del parc natural"
LOCATION:Sant Pere Regalat, 72, baixos 08254 El Pont de Vilomara i Rocafort
METHOD:PUBLISH
X-WR-CALNAME:info.pont@elpont.cat
X-WR-TIMEZONE:Europe/Madrid
DESCRIPTION:A càrrec de Nona Arola, experta en plantes remeieres.

URI:https://www.elpont.cat/actualitat/agenda/activitats-biblioteca-novembre-2025-taller-de-cuina-melmelades-amb-fruits-silvestres-del-parc-natural.html
CLASS:PUBLIC
END:VEVENT
END:VCALENDAR
