BEGIN:VCALENDAR
VERSION:2.0
CALSCALE:GREGORIAN
PRODID:-//Diputació de Barcelona//DibaCMS//EN
BEGIN:VEVENT
UID:12045
DTSTAMP:20260421T222442
DTSTART:20251108T110000
DTEND:20251108T110000
SUMMARY:Activitats Biblioteca novembre 2025 - BiblioLab "Remolí animat"
LOCATION:Sant Pere Regalat, 72, baixos 08254 El Pont de Vilomara i Rocafort
METHOD:PUBLISH
X-WR-CALNAME:info.pont@elpont.cat
X-WR-TIMEZONE:Europe/Madrid
DESCRIPTION:Descobrim el meravellós món d'Alícia en el país de les meravelles a través d'aquesta proposta que combina contes, gimcana i creació digital.

URI:https://www.elpont.cat/actualitat/agenda/activitats-biblioteca-novembre-2025-bibliolab-remoli-animat.html
CLASS:PUBLIC
END:VEVENT
END:VCALENDAR
