BEGIN:VCALENDAR
VERSION:2.0
CALSCALE:GREGORIAN
PRODID:-//Diputació de Barcelona//DibaCMS//EN
BEGIN:VEVENT
UID:12051
DTSTAMP:20260421T193357
DTSTART:20251127T150000
DTEND:20251127T150000
SUMMARY:Activitats Biblioteca novembre 2025 - Presentació del llibre "El Castell de Rocafort i el seu entorn"
LOCATION:Sant Pere Regalat, 72, baixos 08254 El Pont de Vilomara i Rocafort
METHOD:PUBLISH
X-WR-CALNAME:info.pont@elpont.cat
X-WR-TIMEZONE:Europe/Madrid
DESCRIPTION:A càrrec de la historiadora Mireia Vila i l'arqueòleg Òscar Trullàs.

URI:https://www.elpont.cat/actualitat/agenda/activitats-biblioteca-novembre-2025-presentacio-del-llibre-el-castell-de-rocafort-i-el-seu-entorn.html
CLASS:PUBLIC
END:VEVENT
END:VCALENDAR
