BEGIN:VCALENDAR
VERSION:2.0
CALSCALE:GREGORIAN
PRODID:-//Diputació de Barcelona//DibaCMS//EN
BEGIN:VEVENT
UID:12052
DTSTAMP:20260422T002041
DTSTART:20251129T090000
DTEND:20251129T090000
SUMMARY:Activitats Biblioteca novembre 2025 - Caminada de descoberta de la Pedra Seca
LOCATION:Sant Pere Regalat, 72, baixos 08254 El Pont de Vilomara i Rocafort
METHOD:PUBLISH
X-WR-CALNAME:info.pont@elpont.cat
X-WR-TIMEZONE:Europe/Madrid
DESCRIPTION:Recorregut d'uns 8 km amb dificultat mitja.

Esmorzar per als participants amb productes locals i vins de la DO Pla de Bages.

URI:https://www.elpont.cat/actualitat/agenda/activitats-biblioteca-novembre-2025-caminada-de-descoberta-de-la-pedra-seca.html
CLASS:PUBLIC
END:VEVENT
END:VCALENDAR
