BEGIN:VCALENDAR
VERSION:2.0
CALSCALE:GREGORIAN
PRODID:-//Diputació de Barcelona//DibaCMS//EN
BEGIN:VEVENT
UID:12057
DTSTAMP:20260421T143206
DTSTART:20251122T110000
DTEND:20251122T130000
SUMMARY:Cap de setmana de la infància 2025 - Taller "El Bosc dels Infants"
LOCATION:Sant Pere Regalat, 72, baixos 08254 El Pont de Vilomara i Rocafort
METHOD:PUBLISH
X-WR-CALNAME:info.pont@elpont.cat
X-WR-TIMEZONE:Europe/Madrid
DESCRIPTION:Art i Natura. Vine a crear el teu bosc amb fang i natura i forma part d’un gran bosc col·lectiu.

URI:https://www.elpont.cat/actualitat/agenda/cap-de-setmana-de-la-infancia-2025-taller-el-bosc-dels-infants.html
CLASS:PUBLIC
END:VEVENT
END:VCALENDAR
