BEGIN:VCALENDAR
VERSION:2.0
CALSCALE:GREGORIAN
PRODID:-//Diputació de Barcelona//DibaCMS//EN
BEGIN:VEVENT
UID:12059
DTSTAMP:20260421T193324
DTSTART:20251122T170000
DTEND:20251122T170000
SUMMARY:Cap de setmana de la infància 2025 - Benvinguda als nadons del 2025
LOCATION:Sant Pere Regalat, 18-28 08254 El Pont de Vilomara i Rocafort
METHOD:PUBLISH
X-WR-CALNAME:info.pont@elpont.cat
X-WR-TIMEZONE:Europe/Madrid
DESCRIPTION:
URI:https://www.elpont.cat/actualitat/agenda/cap-de-setmana-de-la-infancia-2025-benvinguda-als-nadons-del-2025.html
CLASS:PUBLIC
END:VEVENT
END:VCALENDAR
