BEGIN:VCALENDAR
VERSION:2.0
CALSCALE:GREGORIAN
PRODID:-//Diputació de Barcelona//DibaCMS//EN
BEGIN:VEVENT
UID:12060
DTSTAMP:20260422T002601
DTSTART:20251122T180000
DTEND:20251122T180000
SUMMARY:Cap de setmana de la infància 2025 - Espectacle d’animació “La Rateta i el Grufal”
LOCATION:Sant Pere Regalat, 18-28 08254 El Pont de Vilomara i Rocafort
METHOD:PUBLISH
X-WR-CALNAME:info.pont@elpont.cat
X-WR-TIMEZONE:Europe/Madrid
DESCRIPTION:Tot seguit jocs gegants, de cucanya i tres tallers: maquillatge, test de suculentes i quadret de pintura i sorra.

URI:https://www.elpont.cat/actualitat/agenda/cap-de-setmana-de-la-infancia-2025-espectacle-danimacio-la-rateta-i-el-grufal.html
CLASS:PUBLIC
END:VEVENT
END:VCALENDAR
