BEGIN:VCALENDAR
VERSION:2.0
CALSCALE:GREGORIAN
PRODID:-//Diputació de Barcelona//DibaCMS//EN
BEGIN:VEVENT
UID:12068
DTSTAMP:20260421T190030
DTSTART:20251210T093000
DTEND:20251210T110000
SUMMARY:Taller "Cuidar sense deixar de cuidar-nos"
LOCATION:
METHOD:PUBLISH
X-WR-CALNAME:info.pont@elpont.cat
X-WR-TIMEZONE:Europe/Madrid
DESCRIPTION:Estàs cuidant a tothom menys a tu?

Ets la persona més important per a la teva persona dependent.

Fes un respir i forma't.

La teva salut compta.

URI:https://www.elpont.cat/actualitat/agenda/taller-cuidar-sense-deixar-de-cuidar-nos.html
CLASS:PUBLIC
END:VEVENT
END:VCALENDAR
