BEGIN:VCALENDAR
VERSION:2.0
CALSCALE:GREGORIAN
PRODID:-//Diputació de Barcelona//DibaCMS//EN
BEGIN:VEVENT
UID:12069
DTSTAMP:20260422T003310
DTSTART:20251207T120000
DTEND:20251207T120000
SUMMARY:Festes nadalenques 2025 - Caçations amb botifarrada
LOCATION:Bosquet de la piscina 
METHOD:PUBLISH
X-WR-CALNAME:info.pont@elpont.cat
X-WR-TIMEZONE:Europe/Madrid
DESCRIPTION:
URI:https://www.elpont.cat/actualitat/agenda/festes-nadalenques-2025-cacations-amb-botifarrada.html
CLASS:PUBLIC
END:VEVENT
END:VCALENDAR
