BEGIN:VCALENDAR
VERSION:2.0
CALSCALE:GREGORIAN
PRODID:-//Diputació de Barcelona//DibaCMS//EN
BEGIN:VEVENT
UID:12071
DTSTAMP:20260421T230423
DTSTART:20251203T170000
DTEND:20251203T170000
SUMMARY:Activitats Biblioteca desembre 2025 - Debat al punt "IA: podran substituir-nos les màquines?"
LOCATION:Plaça Cooperativa, s/n 08254 El Pont de Vilomara i Rocafort
METHOD:PUBLISH
X-WR-CALNAME:info.pont@elpont.cat
X-WR-TIMEZONE:Europe/Madrid
DESCRIPTION:Nova trobada del grup de joves per debatre sobre un tema d'actualitat.

URI:https://www.elpont.cat/actualitat/agenda/activitats-biblioteca-desembre-2025-debat-al-punt-ia-podran-substituir-nos-les-maquines.html
CLASS:PUBLIC
END:VEVENT
END:VCALENDAR
