BEGIN:VCALENDAR
VERSION:2.0
CALSCALE:GREGORIAN
PRODID:-//Diputació de Barcelona//DibaCMS//EN
BEGIN:VEVENT
UID:12074
DTSTAMP:20260421T193434
DTSTART:20251212T180000
DTEND:20251212T180000
SUMMARY:Activitats Biblioteca desembre 2025 - Xerrada "Càncer: detectem-ho, arreglem-ho"
LOCATION:Sant Pere Regalat, 72, baixos 08254 El Pont de Vilomara i Rocafort
METHOD:PUBLISH
X-WR-CALNAME:info.pont@elpont.cat
X-WR-TIMEZONE:Europe/Madrid
DESCRIPTION:A càrrec d'experts en oncologia.

URI:https://www.elpont.cat/actualitat/agenda/activitats-biblioteca-desembre-2025-xerrada-cancer-detectem-ho-arreglem-ho.html
CLASS:PUBLIC
END:VEVENT
END:VCALENDAR
