BEGIN:VCALENDAR
VERSION:2.0
CALSCALE:GREGORIAN
PRODID:-//Diputació de Barcelona//DibaCMS//EN
BEGIN:VEVENT
UID:12076
DTSTAMP:20260422T002511
DTSTART:20251217T150000
DTEND:20251217T150000
SUMMARY:Festes Nadalenques 2025 - Taller de cuina "Canapès de Nadal"
LOCATION:Sant Pere Regalat, 72, baixos 08254 El Pont de Vilomara i Rocafort
METHOD:PUBLISH
X-WR-CALNAME:info.pont@elpont.cat
X-WR-TIMEZONE:Europe/Madrid
DESCRIPTION:Aprenem a preparar petites delícies per sorprendre els nostres amics i familiars en els àpats nadalencs.

URI:https://www.elpont.cat/actualitat/agenda/festes-nadalenques-2025-taller-de-cuina-canapes-de-nadal.html
CLASS:PUBLIC
END:VEVENT
END:VCALENDAR
