BEGIN:VCALENDAR
VERSION:2.0
CALSCALE:GREGORIAN
PRODID:-//Diputació de Barcelona//DibaCMS//EN
BEGIN:VEVENT
UID:12077
DTSTAMP:20260421T120831
DTSTART:20251219T150000
DTEND:20251219T150000
SUMMARY:Activitats Biblioteca desembre 2025 - Tertúlia literària "El conte de Nadal de l'Auggie Wren"
LOCATION:Sant Pere Regalat, 72, baixos 08254 El Pont de Vilomara i Rocafort
METHOD:PUBLISH
X-WR-CALNAME:info.pont@elpont.cat
X-WR-TIMEZONE:Europe/Madrid
DESCRIPTION:Trobada del club de lectura per a parlar de la novel·la de Paul Auster.

URI:https://www.elpont.cat/actualitat/agenda/activitats-biblioteca-desembre-2025-tertulia-literaria-el-conte-de-nadal-de-lauggie-wren.html
CLASS:PUBLIC
END:VEVENT
END:VCALENDAR
