BEGIN:VCALENDAR
VERSION:2.0
CALSCALE:GREGORIAN
PRODID:-//Diputació de Barcelona//DibaCMS//EN
BEGIN:VEVENT
UID:12078
DTSTAMP:20260421T144354
DTSTART:20251220T113000
DTEND:20251220T113000
SUMMARY:Festes Nadalenques 2025 - Espectacle-taller d'ombres xineses "Els Reis de l'Orient i la Reina Gaspara"
LOCATION:Sant Pere Regalat, 72, baixos 08254 El Pont de Vilomara i Rocafort
METHOD:PUBLISH
X-WR-CALNAME:info.pont@elpont.cat
X-WR-TIMEZONE:Europe/Madrid
DESCRIPTION:Espectacle i taller d'ombres xineses a càrrec de Boia Teatre.

URI:https://www.elpont.cat/actualitat/agenda/festes-nadalenques-2025-espectacle-taller-dombres-xineses-els-reis-de-lorient-i-la-reina-gaspara.html
CLASS:PUBLIC
END:VEVENT
END:VCALENDAR
