BEGIN:VCALENDAR
VERSION:2.0
CALSCALE:GREGORIAN
PRODID:-//Diputació de Barcelona//DibaCMS//EN
BEGIN:VEVENT
UID:12081
DTSTAMP:20260421T220436
DTSTART:20251205T190000
DTEND:20251205T190000
SUMMARY:Festes nadalenques 2025 - Encesa de llums de Nadal
LOCATION:Plaça de l'Ajuntament. 
METHOD:PUBLISH
X-WR-CALNAME:info.pont@elpont.cat
X-WR-TIMEZONE:Europe/Madrid
DESCRIPTION:Espectacle Sorpresa a càrrec d’en Jordi Callau.

URI:https://www.elpont.cat/actualitat/agenda/festes-nadalenques-2025-encesa-de-llums-de-nadal.html
CLASS:PUBLIC
END:VEVENT
END:VCALENDAR
