BEGIN:VCALENDAR
VERSION:2.0
CALSCALE:GREGORIAN
PRODID:-//Diputació de Barcelona//DibaCMS//EN
BEGIN:VEVENT
UID:12084
DTSTAMP:20260422T002239
DTSTART:20251214T083000
DTEND:20251214T083000
SUMMARY:CANCEL·LADA - Festes nadalenques 2025 - Pujada del pessebre al Puig Gil en BTT i caminant, amb xocolatada
LOCATION:Passeig de la Pau, s/n 08254 El Pont de Vilomara i Rocafort
METHOD:PUBLISH
X-WR-CALNAME:info.pont@elpont.cat
X-WR-TIMEZONE:Europe/Madrid
DESCRIPTION:Aquesta activitat ha estat cancel·lada ateses les restriccions de la Generalitat de Catalunya respecte a la pesta porcina.

URI:https://www.elpont.cat/actualitat/agenda/cancellada-festes-nadalenques-2025-pujada-del-pessebre-al-puig-gil-en-btt-i-caminant-amb-xocolatada.html
CLASS:PUBLIC
END:VEVENT
END:VCALENDAR
