BEGIN:VCALENDAR
VERSION:2.0
CALSCALE:GREGORIAN
PRODID:-//Diputació de Barcelona//DibaCMS//EN
BEGIN:VEVENT
UID:12086
DTSTAMP:20260421T144214
DTSTART:20251214T170000
DTEND:20251214T170000
SUMMARY:Festes nadalenques 2025 - Zambombá flamenca
LOCATION:Sant Pere Regalat, 18-28 08254 El Pont de Vilomara i Rocafort
METHOD:PUBLISH
X-WR-CALNAME:info.pont@elpont.cat
X-WR-TIMEZONE:Europe/Madrid
DESCRIPTION:
URI:https://www.elpont.cat/actualitat/agenda/festes-nadalenques-2025-zambomba-flamenca.html
CLASS:PUBLIC
END:VEVENT
END:VCALENDAR
